BEGIN:VCALENDAR
VERSION:2.0
PRODID:-//IIDA Hawaii Pacific Chapter - ECPv6.15.20//NONSGML v1.0//EN
CALSCALE:GREGORIAN
METHOD:PUBLISH
X-ORIGINAL-URL:https://iida-hi.org
X-WR-CALDESC:Events for IIDA Hawaii Pacific Chapter
REFRESH-INTERVAL;VALUE=DURATION:PT1H
X-Robots-Tag:noindex
X-PUBLISHED-TTL:PT1H
BEGIN:VTIMEZONE
TZID:Pacific/Honolulu
BEGIN:STANDARD
TZOFFSETFROM:-1000
TZOFFSETTO:-1000
TZNAME:HST
DTSTART:20250101T000000
END:STANDARD
END:VTIMEZONE
BEGIN:VEVENT
DTSTART;TZID=Pacific/Honolulu:20260305T173000
DTEND;TZID=Pacific/Honolulu:20260305T190000
DTSTAMP:20260421T211349
CREATED:20260203T232154Z
LAST-MODIFIED:20260313T054856Z
UID:4278-1772731800-1772737200@iida-hi.org
SUMMARY:2026 Monthly Board Meeting
DESCRIPTION:
URL:https://iida-hi.org/event/2026-monthly-board-meeting-1/
LOCATION:HI
CATEGORIES:Board Meetings, Retreats and CLC's
END:VEVENT
BEGIN:VEVENT
DTSTART;TZID=Pacific/Honolulu:20260319T173000
DTEND;TZID=Pacific/Honolulu:20260319T193000
DTSTAMP:20260421T211349
CREATED:20260313T054806Z
LAST-MODIFIED:20260313T054806Z
UID:5347-1773941400-1773948600@iida-hi.org
SUMMARY:HiConnect Committee Mtg
DESCRIPTION:
URL:https://iida-hi.org/event/hiconnect-committee-mtg/
LOCATION:WCIT Architecture\, 725 Kapiolani Blvd\, Honolulu\, HI\, 96813
CATEGORIES:Committee Meetings
END:VEVENT
BEGIN:VEVENT
DTSTART;TZID=Pacific/Honolulu:20260325T173000
DTEND;TZID=Pacific/Honolulu:20260325T193000
DTSTAMP:20260421T211349
CREATED:20260203T232233Z
LAST-MODIFIED:20260312T211918Z
UID:4279-1774459800-1774467000@iida-hi.org
SUMMARY:Project Hop – Part 1
DESCRIPTION:The IIDA Hawai‘i Pacific Chapter invites you to Project Hop – Part 1\, the first event in a new series designed to bring our community inside award-winning spaces across Hawai‘i. \nProject Hop offers attendees the opportunity to experience exceptional design firsthand while hearing directly from the teams behind the work. \nThis installment will feature an exclusive tour of Uncle Paul’s Corner Store\, winner of the 2025 Ho‘ohuli Award – The Shop Award\, which recognizes excellence in customer-focused retail environments. \nDesigned by Next Design\, Uncle Paul’s Corner Store blends hospitality\, retail\, and community into a vibrant neighborhood gathering place centered around food\, connection\, and experience. \nDuring the tour\, the design team will share insights into the project’s vision\, design process\, and key moments that helped shape the space. \nFollowing the tour\, attendees are invited to stay for a casual pau hana\, offering time to connect with fellow designers\, industry partners\, and members of Hawai‘i’s design community. \n\nPricing\nIIDA Members: FreeNon-Members: $35 \nSpace is limited and advance registration is required.
URL:https://iida-hi.org/event/project-hop-pt-1-manoa-edition/
LOCATION:Uncle Paul’s Corner Store\, 2752 Woodlawn Dr #5-100\, Honolulu\, HI\, 96822\, United States
CATEGORIES:Event
ATTACH;FMTTYPE=image/png:https://iida-hi.org/wp-content/uploads/2026/02/Project-Hop-Eventbrite.png
END:VEVENT
BEGIN:VEVENT
DTSTART;TZID=Pacific/Honolulu:20260326T000000
DTEND;TZID=Pacific/Honolulu:20260326T235959
DTSTAMP:20260421T211349
CREATED:20260119T004140Z
LAST-MODIFIED:20260119T004140Z
UID:4212-1774483200-1774569599@iida-hi.org
SUMMARY:Prince Jonah Kūhiō Kalanianaʻole Day
DESCRIPTION:
URL:https://iida-hi.org/event/prince-jonah-kuhio-kalaniana%ca%bbole-day/
LOCATION:HI
CATEGORIES:Holidays
END:VEVENT
BEGIN:VEVENT
DTSTART;TZID=Pacific/Honolulu:20260402T173000
DTEND;TZID=Pacific/Honolulu:20260402T190000
DTSTAMP:20260421T211349
CREATED:20260313T055115Z
LAST-MODIFIED:20260313T055249Z
UID:5348-1775151000-1775156400@iida-hi.org
SUMMARY:2026 Monthly Board Meeting
DESCRIPTION:
URL:https://iida-hi.org/event/2026-monthly-board-meeting/
LOCATION:HI
CATEGORIES:Board Meetings, Retreats and CLC's
END:VEVENT
BEGIN:VEVENT
DTSTART;TZID=Pacific/Honolulu:20260403T000000
DTEND;TZID=Pacific/Honolulu:20260403T235959
DTSTAMP:20260421T211349
CREATED:20260119T004225Z
LAST-MODIFIED:20260119T004225Z
UID:4214-1775174400-1775260799@iida-hi.org
SUMMARY:Good Friday
DESCRIPTION:
URL:https://iida-hi.org/event/good-friday/
LOCATION:HI
CATEGORIES:Holidays
END:VEVENT
BEGIN:VEVENT
DTSTART;TZID=Pacific/Honolulu:20260405T000000
DTEND;TZID=Pacific/Honolulu:20260405T235959
DTSTAMP:20260421T211349
CREATED:20260313T055355Z
LAST-MODIFIED:20260313T055355Z
UID:5350-1775347200-1775433599@iida-hi.org
SUMMARY:Easter Sunday
DESCRIPTION:
URL:https://iida-hi.org/event/easter-sunday/
LOCATION:HI
CATEGORIES:Holidays
END:VEVENT
BEGIN:VEVENT
DTSTART;TZID=Pacific/Honolulu:20260416T170000
DTEND;TZID=Pacific/Honolulu:20260416T190000
DTSTAMP:20260421T211349
CREATED:20260203T232332Z
LAST-MODIFIED:20260203T232332Z
UID:4280-1776358800-1776366000@iida-hi.org
SUMMARY:Student Design Awards
DESCRIPTION:
URL:https://iida-hi.org/event/student-design-awards/
LOCATION:T.C. Ching Conference Center\, 3140 Waialae Ave.\, Honolulu\, HI\, 96816\, United States
CATEGORIES:Event
END:VEVENT
BEGIN:VEVENT
DTSTART;TZID=Pacific/Honolulu:20260429T170000
DTEND;TZID=Pacific/Honolulu:20260429T210000
DTSTAMP:20260421T211349
CREATED:20260313T055953Z
LAST-MODIFIED:20260313T055953Z
UID:5352-1777482000-1777496400@iida-hi.org
SUMMARY:OP Design Challenge
DESCRIPTION:
URL:https://iida-hi.org/event/op-design-challenge/
LOCATION:Office Pavillion\, 50 S Beretania St. C208B\, Honolulu\, HI\, 96813
CATEGORIES:Event
END:VEVENT
BEGIN:VEVENT
DTSTART;TZID=Pacific/Honolulu:20260505T000000
DTEND;TZID=Pacific/Honolulu:20260507T235959
DTSTAMP:20260421T211349
CREATED:20260313T060510Z
LAST-MODIFIED:20260313T060510Z
UID:5355-1777939200-1778198399@iida-hi.org
SUMMARY:HD Expo + Conference 2026
DESCRIPTION:
URL:https://iida-hi.org/event/hd-expo-conference-2026/
LOCATION:Mandalay Bay\, 3950 S Las Vegas Blvd\, Las Vegas`\, NV\, 89119\, United States
CATEGORIES:Tradeshows
END:VEVENT
BEGIN:VEVENT
DTSTART;TZID=Pacific/Honolulu:20260507T173000
DTEND;TZID=Pacific/Honolulu:20260507T190000
DTSTAMP:20260421T211349
CREATED:20260313T055207Z
LAST-MODIFIED:20260313T055222Z
UID:5349-1778175000-1778180400@iida-hi.org
SUMMARY:2026 Monthly Board Meeting
DESCRIPTION:
URL:https://iida-hi.org/event/2026-monthly-board-meeting-2/
LOCATION:HI
CATEGORIES:Board Meetings, Retreats and CLC's
END:VEVENT
BEGIN:VEVENT
DTSTART;TZID=Pacific/Honolulu:20260514T173000
DTEND;TZID=Pacific/Honolulu:20260514T193000
DTSTAMP:20260421T211349
CREATED:20260203T232524Z
LAST-MODIFIED:20260313T062321Z
UID:4281-1778779800-1778787000@iida-hi.org
SUMMARY:Project Hop – Part 2
DESCRIPTION:
URL:https://iida-hi.org/event/project-hop-pt-2-waikiki-kahala-edition/
LOCATION:HI
CATEGORIES:Event
END:VEVENT
BEGIN:VEVENT
DTSTART;TZID=Pacific/Honolulu:20260517T000000
DTEND;TZID=Pacific/Honolulu:20260519T235959
DTSTAMP:20260421T211349
CREATED:20260313T061454Z
LAST-MODIFIED:20260313T061454Z
UID:5361-1778976000-1779235199@iida-hi.org
SUMMARY:ICFF 2026
DESCRIPTION:
URL:https://iida-hi.org/event/icff-2026/
LOCATION:JACOB K. JAVITS CENTER – NYC
CATEGORIES:Tradeshows
END:VEVENT
BEGIN:VEVENT
DTSTART;TZID=Pacific/Honolulu:20260525T000000
DTEND;TZID=Pacific/Honolulu:20260525T235959
DTSTAMP:20260421T211349
CREATED:20260119T004258Z
LAST-MODIFIED:20260119T004258Z
UID:4215-1779667200-1779753599@iida-hi.org
SUMMARY:Memorial Day
DESCRIPTION:
URL:https://iida-hi.org/event/memorial-day/
LOCATION:HI
CATEGORIES:Holidays
END:VEVENT
BEGIN:VEVENT
DTSTART;TZID=Pacific/Honolulu:20260528T173000
DTEND;TZID=Pacific/Honolulu:20260528T193000
DTSTAMP:20260421T211349
CREATED:20260313T060202Z
LAST-MODIFIED:20260313T060202Z
UID:5354-1779989400-1779996600@iida-hi.org
SUMMARY:Rock 'N' Bowl Committee Mtg
DESCRIPTION:
URL:https://iida-hi.org/event/rock-n-bowl-committee-mtg/
LOCATION:HI
CATEGORIES:Committee Meetings
END:VEVENT
BEGIN:VEVENT
DTSTART;TZID=Pacific/Honolulu:20260604T173000
DTEND;TZID=Pacific/Honolulu:20260604T190000
DTSTAMP:20260421T211349
CREATED:20260313T055428Z
LAST-MODIFIED:20260313T055428Z
UID:5351-1780594200-1780599600@iida-hi.org
SUMMARY:2026 Monthly Board Meeting
DESCRIPTION:
URL:https://iida-hi.org/event/2026-monthly-board-meeting-3/
LOCATION:HI
CATEGORIES:Board Meetings, Retreats and CLC's
END:VEVENT
BEGIN:VEVENT
DTSTART;TZID=Pacific/Honolulu:20260605T000000
DTEND;TZID=Pacific/Honolulu:20260607T235959
DTSTAMP:20260421T211349
CREATED:20260313T061942Z
LAST-MODIFIED:20260313T061942Z
UID:5363-1780617600-1780876799@iida-hi.org
SUMMARY:Summer CLC
DESCRIPTION:
URL:https://iida-hi.org/event/summer-clc-2/
LOCATION:IIDA Headquarters\, 111 E Wacker Dr #222\, Chicago\, IL\, 60601\, United States
CATEGORIES:Board Meetings, Retreats and CLC's
END:VEVENT
BEGIN:VEVENT
DTSTART;TZID=Pacific/Honolulu:20260608T000000
DTEND;TZID=Pacific/Honolulu:20260611T235959
DTSTAMP:20260421T211349
CREATED:20260313T061149Z
LAST-MODIFIED:20260313T062029Z
UID:5358-1780876800-1781222399@iida-hi.org
SUMMARY:NeoCon 2026
DESCRIPTION:
URL:https://iida-hi.org/event/neocon-2026/
LOCATION:THE MART\, 222 W Merchandise Mart Plaza\, Chicago\, IL\, 60654\, United States
CATEGORIES:Tradeshows
END:VEVENT
BEGIN:VEVENT
DTSTART;TZID=Pacific/Honolulu:20260611T000000
DTEND;TZID=Pacific/Honolulu:20260611T235959
DTSTAMP:20260421T211349
CREATED:20260119T004325Z
LAST-MODIFIED:20260119T004325Z
UID:4216-1781136000-1781222399@iida-hi.org
SUMMARY:King Kamehameha Day
DESCRIPTION:
URL:https://iida-hi.org/event/king-kamehameha-day/
LOCATION:HI
CATEGORIES:Holidays
END:VEVENT
BEGIN:VEVENT
DTSTART;TZID=Pacific/Honolulu:20260619T000000
DTEND;TZID=Pacific/Honolulu:20260619T235959
DTSTAMP:20260421T211349
CREATED:20260119T004708Z
LAST-MODIFIED:20260119T004708Z
UID:4227-1781827200-1781913599@iida-hi.org
SUMMARY:Juneteenth
DESCRIPTION:
URL:https://iida-hi.org/event/juneteenth/
LOCATION:HI
CATEGORIES:Holidays
END:VEVENT
BEGIN:VEVENT
DTSTART;TZID=Pacific/Honolulu:20260703T000000
DTEND;TZID=Pacific/Honolulu:20260703T235959
DTSTAMP:20260421T211349
CREATED:20260119T004359Z
LAST-MODIFIED:20260119T004359Z
UID:4218-1783036800-1783123199@iida-hi.org
SUMMARY:Independence Day
DESCRIPTION:
URL:https://iida-hi.org/event/independence-day/
LOCATION:HI
CATEGORIES:Holidays
END:VEVENT
BEGIN:VEVENT
DTSTART;TZID=Pacific/Honolulu:20260820T000000
DTEND;TZID=Pacific/Honolulu:20260820T235959
DTSTAMP:20260421T211349
CREATED:20260203T232612Z
LAST-MODIFIED:20260416T054101Z
UID:4282-1787184000-1787270399@iida-hi.org
SUMMARY:HiConnect
DESCRIPTION:
URL:https://iida-hi.org/event/hiconnect-2/
LOCATION:HI
CATEGORIES:Event,Tradeshows
ATTACH;FMTTYPE=image/jpeg:https://iida-hi.org/wp-content/uploads/2026/02/HiConnect-Medium-Banner-US-Landscape-scaled.jpg
END:VEVENT
BEGIN:VEVENT
DTSTART;TZID=Pacific/Honolulu:20260821T000000
DTEND;TZID=Pacific/Honolulu:20260821T235959
DTSTAMP:20260421T211349
CREATED:20260119T004431Z
LAST-MODIFIED:20260119T004431Z
UID:4219-1787270400-1787356799@iida-hi.org
SUMMARY:Statehood Day
DESCRIPTION:
URL:https://iida-hi.org/event/statehood-day/
LOCATION:HI
CATEGORIES:Holidays
END:VEVENT
BEGIN:VEVENT
DTSTART;TZID=Pacific/Honolulu:20260907T000000
DTEND;TZID=Pacific/Honolulu:20260907T235959
DTSTAMP:20260421T211349
CREATED:20260119T004456Z
LAST-MODIFIED:20260119T004501Z
UID:4220-1788739200-1788825599@iida-hi.org
SUMMARY:Labor Day
DESCRIPTION:
URL:https://iida-hi.org/event/labor-day/
LOCATION:HI
CATEGORIES:Holidays
END:VEVENT
BEGIN:VEVENT
DTSTART;TZID=Pacific/Honolulu:20260917T000000
DTEND;TZID=Pacific/Honolulu:20260917T235959
DTSTAMP:20260421T211349
CREATED:20260203T232703Z
LAST-MODIFIED:20260203T232703Z
UID:4283-1789603200-1789689599@iida-hi.org
SUMMARY:Membership Drive & Appreciation
DESCRIPTION:
URL:https://iida-hi.org/event/membership-drive-appreciation/
LOCATION:HI
CATEGORIES:Event
END:VEVENT
BEGIN:VEVENT
DTSTART;TZID=Pacific/Honolulu:20261002T000000
DTEND;TZID=Pacific/Honolulu:20261004T235959
DTSTAMP:20260421T211349
CREATED:20260313T061635Z
LAST-MODIFIED:20260313T061635Z
UID:5362-1790899200-1791158399@iida-hi.org
SUMMARY:Western Regional CLC Fall 2026
DESCRIPTION:
URL:https://iida-hi.org/event/western-regional-clc-fall-2026/
LOCATION:HI
CATEGORIES:Board Meetings, Retreats and CLC's
END:VEVENT
BEGIN:VEVENT
DTSTART;TZID=Pacific/Honolulu:20261017T000000
DTEND;TZID=Pacific/Honolulu:20261017T235959
DTSTAMP:20260421T211349
CREATED:20260203T232745Z
LAST-MODIFIED:20260203T232745Z
UID:4284-1792195200-1792281599@iida-hi.org
SUMMARY:Rock 'N' Bowl
DESCRIPTION:
URL:https://iida-hi.org/event/rock-n-bowl/
LOCATION:HI
CATEGORIES:Event
END:VEVENT
BEGIN:VEVENT
DTSTART;TZID=Pacific/Honolulu:20261021T000000
DTEND;TZID=Pacific/Honolulu:20261021T235959
DTSTAMP:20260421T211349
CREATED:20260319T052337Z
LAST-MODIFIED:20260319T052337Z
UID:5367-1792540800-1792627199@iida-hi.org
SUMMARY:PBX Hawai'i
DESCRIPTION:
URL:https://iida-hi.org/event/pbx-hawaii/
LOCATION:Neal S. Blaisdell Center\, 777 Ward Ave\, Honolulu\, HI\, 96814\, United States
CATEGORIES:Tradeshows
END:VEVENT
BEGIN:VEVENT
DTSTART;TZID=Pacific/Honolulu:20261103T000000
DTEND;TZID=Pacific/Honolulu:20261103T235959
DTSTAMP:20260421T211349
CREATED:20260119T004525Z
LAST-MODIFIED:20260119T004525Z
UID:4222-1793664000-1793750399@iida-hi.org
SUMMARY:General Election Day
DESCRIPTION:
URL:https://iida-hi.org/event/general-election-day/
LOCATION:HI
CATEGORIES:Holidays
END:VEVENT
BEGIN:VEVENT
DTSTART;TZID=Pacific/Honolulu:20261108T000000
DTEND;TZID=Pacific/Honolulu:20261109T235959
DTSTAMP:20260421T211349
CREATED:20260313T060747Z
LAST-MODIFIED:20260313T061317Z
UID:5357-1794096000-1794268799@iida-hi.org
SUMMARY:BDNY 2026
DESCRIPTION:
URL:https://iida-hi.org/event/bdny-2026/
LOCATION:JACOB K. JAVITS CENTER – NYC
CATEGORIES:Tradeshows
END:VEVENT
END:VCALENDAR